BEGIN:VCALENDAR
VERSION:2.0
PRODID:-//Waking As Water : The Birth Of Consciousness - ECPv6.15.20//NONSGML v1.0//EN
CALSCALE:GREGORIAN
METHOD:PUBLISH
X-WR-CALNAME:Waking As Water : The Birth Of Consciousness
X-ORIGINAL-URL:https://wakingaswater.com
X-WR-CALDESC:Events for Waking As Water : The Birth Of Consciousness
REFRESH-INTERVAL;VALUE=DURATION:PT1H
X-Robots-Tag:noindex
X-PUBLISHED-TTL:PT1H
BEGIN:VTIMEZONE
TZID:Asia/Karachi
BEGIN:STANDARD
TZOFFSETFROM:+0500
TZOFFSETTO:+0500
TZNAME:PKT
DTSTART:20250101T000000
END:STANDARD
END:VTIMEZONE
BEGIN:VEVENT
DTSTART;TZID=Asia/Karachi:20260111T103000
DTEND;TZID=Asia/Karachi:20260111T120100
DTSTAMP:20260420T124321
CREATED:20251214T045437Z
LAST-MODIFIED:20251214T050614Z
UID:111-1768127400-1768132860@wakingaswater.com
SUMMARY:Divine Light Spiritualist Church 10:30am 11/01/26 Guest Speaker
DESCRIPTION:Join us at The Divine Light Spiritualist Church on Sunday January 11th 2026\, at 10:30 AM – 12:01 PM for the divine service (donation) with yours truly as guest speaker presenting more on Waking As Water- with a meet and greet and book ($30) signing directly after service. Check back for remote website link.
URL:https://wakingaswater.com/event/divine-light-spiritualist-church-1030am-11-01-26/
LOCATION:DLSC\, 70 Commercial Ave.\, Ajax\, Ontario\, Ontario\, Canada
END:VEVENT
END:VCALENDAR