BEGIN:VCALENDAR
VERSION:2.0
PRODID:-//Waking As Water : The Birth Of Consciousness - ECPv6.15.20//NONSGML v1.0//EN
CALSCALE:GREGORIAN
METHOD:PUBLISH
X-ORIGINAL-URL:https://wakingaswater.com
X-WR-CALDESC:Events for Waking As Water : The Birth Of Consciousness
REFRESH-INTERVAL;VALUE=DURATION:PT1H
X-Robots-Tag:noindex
X-PUBLISHED-TTL:PT1H
BEGIN:VTIMEZONE
TZID:America/Toronto
BEGIN:DAYLIGHT
TZOFFSETFROM:-0500
TZOFFSETTO:-0400
TZNAME:EDT
DTSTART:20250309T070000
END:DAYLIGHT
BEGIN:STANDARD
TZOFFSETFROM:-0400
TZOFFSETTO:-0500
TZNAME:EST
DTSTART:20251102T060000
END:STANDARD
BEGIN:DAYLIGHT
TZOFFSETFROM:-0500
TZOFFSETTO:-0400
TZNAME:EDT
DTSTART:20260308T070000
END:DAYLIGHT
BEGIN:STANDARD
TZOFFSETFROM:-0400
TZOFFSETTO:-0500
TZNAME:EST
DTSTART:20261101T060000
END:STANDARD
BEGIN:DAYLIGHT
TZOFFSETFROM:-0500
TZOFFSETTO:-0400
TZNAME:EDT
DTSTART:20270314T070000
END:DAYLIGHT
BEGIN:STANDARD
TZOFFSETFROM:-0400
TZOFFSETTO:-0500
TZNAME:EST
DTSTART:20271107T060000
END:STANDARD
END:VTIMEZONE
BEGIN:VEVENT
DTSTART;TZID=America/Toronto:20260315T103000
DTEND;TZID=America/Toronto:20260315T120000
DTSTAMP:20260420T110510
CREATED:20260125T223328Z
LAST-MODIFIED:20260126T150625Z
UID:509-1773570600-1773576000@wakingaswater.com
SUMMARY:Springdale Spiritualist Church - Guest Speaker
DESCRIPTION:Join us for the divine service at Springdale Spiritualist Church in East York where I will be a first-time guest speaker- healing and messages from spirit are also part of the divine service. Signed copies of Waking As Water will be sold afterwards for $30.00
URL:https://wakingaswater.com/event/springdale-spiritualist-church-guest-speaker-2/
LOCATION:Springdale Spiritualist Church\, 30 Merritt Road\, Toronto\, On\, Canada
END:VEVENT
END:VCALENDAR