BEGIN:VCALENDAR
VERSION:2.0
PRODID:-//Waking As Water : The Birth Of Consciousness - ECPv6.15.20//NONSGML v1.0//EN
CALSCALE:GREGORIAN
METHOD:PUBLISH
X-ORIGINAL-URL:https://wakingaswater.com
X-WR-CALDESC:Events for Waking As Water : The Birth Of Consciousness
REFRESH-INTERVAL;VALUE=DURATION:PT1H
X-Robots-Tag:noindex
X-PUBLISHED-TTL:PT1H
BEGIN:VTIMEZONE
TZID:America/Toronto
BEGIN:DAYLIGHT
TZOFFSETFROM:-0500
TZOFFSETTO:-0400
TZNAME:EDT
DTSTART:20250309T070000
END:DAYLIGHT
BEGIN:STANDARD
TZOFFSETFROM:-0400
TZOFFSETTO:-0500
TZNAME:EST
DTSTART:20251102T060000
END:STANDARD
BEGIN:DAYLIGHT
TZOFFSETFROM:-0500
TZOFFSETTO:-0400
TZNAME:EDT
DTSTART:20260308T070000
END:DAYLIGHT
BEGIN:STANDARD
TZOFFSETFROM:-0400
TZOFFSETTO:-0500
TZNAME:EST
DTSTART:20261101T060000
END:STANDARD
BEGIN:DAYLIGHT
TZOFFSETFROM:-0500
TZOFFSETTO:-0400
TZNAME:EDT
DTSTART:20270314T070000
END:DAYLIGHT
BEGIN:STANDARD
TZOFFSETFROM:-0400
TZOFFSETTO:-0500
TZNAME:EST
DTSTART:20271107T060000
END:STANDARD
END:VTIMEZONE
BEGIN:VEVENT
DTSTART;TZID=America/Toronto:20260215T103000
DTEND;TZID=America/Toronto:20260215T120000
DTSTAMP:20260420T124359
CREATED:20260125T222009Z
LAST-MODIFIED:20260126T150558Z
UID:497-1771151400-1771156800@wakingaswater.com
SUMMARY:Eternal Life Spiritual Centre - Guest Speaker
DESCRIPTION:Join us as I return to Eternal Life Spiritual Centre for the divine service and lecture\, includes healing service and messages from spirit.
URL:https://wakingaswater.com/event/eternal-life-spiritual-center-guest-speaker/
LOCATION:Eternal Life Spiritual Center\, 22 Mill Street\, Oshawa\, ON\, L1G 5J5\, Canada
END:VEVENT
END:VCALENDAR